BEGIN:VCALENDAR
VERSION:2.0
CALSCALE:GREGORIAN
PRODID:-//Diputació de Barcelona//DibaCMS//EN
BEGIN:VEVENT
UID:1568
DTSTAMP:20260425T014444
DTSTART:20220405T093000
DTEND:20220405T133000
SUMMARY:Renovació del DNI
LOCATION:
METHOD:PUBLISH
X-WR-CALNAME:pacs@pacsdelpenedes.cat
X-WR-TIMEZONE:Europe/Madrid
DESCRIPTION:
URI:https://www.pacsdelpenedes.cat/actualitat/agenda/1568-renovacio-del-dni.html
CLASS:PUBLIC
END:VEVENT
END:VCALENDAR
