BEGIN:VCALENDAR
VERSION:2.0
CALSCALE:GREGORIAN
PRODID:-//Diputació de Barcelona//DibaCMS//EN
BEGIN:VEVENT
UID:1569
DTSTAMP:20260425T014505
DTSTART:20220408T093000
DTEND:20220408T133000
SUMMARY:Recollida dels DNI
LOCATION:
METHOD:PUBLISH
X-WR-CALNAME:pacs@pacsdelpenedes.cat
X-WR-TIMEZONE:Europe/Madrid
DESCRIPTION:
URI:https://www.pacsdelpenedes.cat/actualitat/agenda/recollida-dels-dni.html
CLASS:PUBLIC
END:VEVENT
END:VCALENDAR
