BEGIN:VCALENDAR
VERSION:2.0
CALSCALE:GREGORIAN
PRODID:-//Diputació de Barcelona//DibaCMS//EN
BEGIN:VEVENT
UID:1571
DTSTAMP:20260425T045011
DTSTART:20220302T000000
DTEND:20220316T230000
SUMMARY:Licitació Casal d'Estiu Municipal
LOCATION:
METHOD:PUBLISH
X-WR-CALNAME:pacs@pacsdelpenedes.cat
X-WR-TIMEZONE:Europe/Madrid
DESCRIPTION:
URI:https://www.pacsdelpenedes.cat/actualitat/agenda/1571-licitacio-casal-destiu-municipal.html
CLASS:PUBLIC
END:VEVENT
END:VCALENDAR
