BEGIN:VCALENDAR
VERSION:2.0
CALSCALE:GREGORIAN
PRODID:-//Diputació de Barcelona//DibaCMS//EN
BEGIN:VEVENT
UID:1588
DTSTAMP:20260425T014541
DTSTART:20220504T173000
DTEND:20220504T173000
SUMMARY:Sortida a veure "La Cubana"
LOCATION:
METHOD:PUBLISH
X-WR-CALNAME:pacs@pacsdelpenedes.cat
X-WR-TIMEZONE:Europe/Madrid
DESCRIPTION:
URI:https://www.pacsdelpenedes.cat/actualitat/agenda/1588-sortida-a-veure-la-cubana.html
CLASS:PUBLIC
END:VEVENT
END:VCALENDAR
