BEGIN:VCALENDAR
VERSION:2.0
CALSCALE:GREGORIAN
PRODID:-//Diputació de Barcelona//DibaCMS//EN
BEGIN:VEVENT
UID:1593
DTSTAMP:20260424T235840
DTSTART:20220422T203000
DTEND:20220422T203000
SUMMARY:Presentació del llibre “Història de una resiliència” de Jaume Junyent
LOCATION:
METHOD:PUBLISH
X-WR-CALNAME:pacs@pacsdelpenedes.cat
X-WR-TIMEZONE:Europe/Madrid
DESCRIPTION:
URI:https://www.pacsdelpenedes.cat/actualitat/agenda/presentacio-del-llibre-historia-de-una-resiliencia-de-jaume-junyent.html
CLASS:PUBLIC
END:VEVENT
END:VCALENDAR
