BEGIN:VCALENDAR
VERSION:2.0
CALSCALE:GREGORIAN
PRODID:-//Diputació de Barcelona//DibaCMS//EN
BEGIN:VEVENT
UID:1595
DTSTAMP:20260425T031800
DTSTART:20220423T170000
DTEND:20220423T170000
SUMMARY:Presentació del llibre relats de "dones singulars" La Rosa Tort
LOCATION:
METHOD:PUBLISH
X-WR-CALNAME:pacs@pacsdelpenedes.cat
X-WR-TIMEZONE:Europe/Madrid
DESCRIPTION:
URI:https://www.pacsdelpenedes.cat/actualitat/agenda/presentacio-del-llibre-relats-de-dones-singulars-la-rosa-tort.html
CLASS:PUBLIC
END:VEVENT
END:VCALENDAR
