BEGIN:VCALENDAR
VERSION:2.0
CALSCALE:GREGORIAN
PRODID:-//Diputació de Barcelona//DibaCMS//EN
BEGIN:VEVENT
UID:1596
DTSTAMP:20260425T000129
DTSTART:20220423T180000
DTEND:20220423T180000
SUMMARY:Joc de pistes per a joves, adults i famílies
LOCATION:
METHOD:PUBLISH
X-WR-CALNAME:pacs@pacsdelpenedes.cat
X-WR-TIMEZONE:Europe/Madrid
DESCRIPTION:
URI:https://www.pacsdelpenedes.cat/actualitat/agenda/joc-de-pistes-per-a-joves-adults-i-families.html
CLASS:PUBLIC
END:VEVENT
END:VCALENDAR
