BEGIN:VCALENDAR
VERSION:2.0
CALSCALE:GREGORIAN
PRODID:-//Diputació de Barcelona//DibaCMS//EN
BEGIN:VEVENT
UID:1598
DTSTAMP:20260424T235459
DTSTART:20220423T203000
DTEND:20220423T203000
SUMMARY:Música en directe a càrrec del grup "SOM 2/3"
LOCATION:
METHOD:PUBLISH
X-WR-CALNAME:pacs@pacsdelpenedes.cat
X-WR-TIMEZONE:Europe/Madrid
DESCRIPTION:
URI:https://www.pacsdelpenedes.cat/actualitat/agenda/musica-en-directe-a-carrec-del-grup-som-23.html
CLASS:PUBLIC
END:VEVENT
END:VCALENDAR
