BEGIN:VCALENDAR
VERSION:2.0
CALSCALE:GREGORIAN
PRODID:-//Diputació de Barcelona//DibaCMS//EN
BEGIN:VEVENT
UID:1627
DTSTAMP:20260425T000634
DTSTART:20220611T200000
DTEND:20220611T200000
SUMMARY:5è Tastapacs l'Origen 2022
LOCATION:
METHOD:PUBLISH
X-WR-CALNAME:pacs@pacsdelpenedes.cat
X-WR-TIMEZONE:Europe/Madrid
DESCRIPTION:
URI:https://www.pacsdelpenedes.cat/actualitat/agenda/1627-5e-tastapacs-lorigen-2022.html
CLASS:PUBLIC
END:VEVENT
END:VCALENDAR
