BEGIN:VCALENDAR
VERSION:2.0
CALSCALE:GREGORIAN
PRODID:-//Diputació de Barcelona//DibaCMS//EN
BEGIN:VEVENT
UID:1654
DTSTAMP:20260425T031734
DTSTART:20220805T120000
DTEND:20220805T120000
SUMMARY:Repic general de Campanes
LOCATION:
METHOD:PUBLISH
X-WR-CALNAME:pacs@pacsdelpenedes.cat
X-WR-TIMEZONE:Europe/Madrid
DESCRIPTION:
URI:https://www.pacsdelpenedes.cat/actualitat/agenda/repic-general-de-campanes.html
CLASS:PUBLIC
END:VEVENT
END:VCALENDAR
