BEGIN:VCALENDAR
VERSION:2.0
CALSCALE:GREGORIAN
PRODID:-//Diputació de Barcelona//DibaCMS//EN
BEGIN:VEVENT
UID:1655
DTSTAMP:20260424T211329
DTSTART:20220805T200000
DTEND:20220805T200000
SUMMARY:Balls de Lluiment
LOCATION:
METHOD:PUBLISH
X-WR-CALNAME:pacs@pacsdelpenedes.cat
X-WR-TIMEZONE:Europe/Madrid
DESCRIPTION:
URI:https://www.pacsdelpenedes.cat/actualitat/agenda/balls-de-lluiment.html
CLASS:PUBLIC
END:VEVENT
END:VCALENDAR
