BEGIN:VCALENDAR
VERSION:2.0
CALSCALE:GREGORIAN
PRODID:-//Diputació de Barcelona//DibaCMS//EN
BEGIN:VEVENT
UID:1659
DTSTAMP:20260424T211313
DTSTART:20220805T230000
DTEND:20220805T230000
SUMMARY:Teatre "Marta, Montserrat, Maria"
LOCATION:
METHOD:PUBLISH
X-WR-CALNAME:pacs@pacsdelpenedes.cat
X-WR-TIMEZONE:Europe/Madrid
DESCRIPTION:
URI:https://www.pacsdelpenedes.cat/actualitat/agenda/teatre-marta-montserrat-maria.html
CLASS:PUBLIC
END:VEVENT
END:VCALENDAR
