BEGIN:VCALENDAR
VERSION:2.0
CALSCALE:GREGORIAN
PRODID:-//Diputació de Barcelona//DibaCMS//EN
BEGIN:VEVENT
UID:1683
DTSTAMP:20260424T224524
DTSTART:20220814T093000
DTEND:20220814T093000
SUMMARY:Missa de difunts
LOCATION:
METHOD:PUBLISH
X-WR-CALNAME:pacs@pacsdelpenedes.cat
X-WR-TIMEZONE:Europe/Madrid
DESCRIPTION:
URI:https://www.pacsdelpenedes.cat/actualitat/agenda/missa-de-difunts.html
CLASS:PUBLIC
END:VEVENT
END:VCALENDAR
