BEGIN:VCALENDAR
VERSION:2.0
CALSCALE:GREGORIAN
PRODID:-//Diputació de Barcelona//DibaCMS//EN
BEGIN:VEVENT
UID:1744
DTSTAMP:20260425T000516
DTSTART:20221211T100000
DTEND:20221211T100000
SUMMARY:Gimcana: Arriben els Tions a Pacs
LOCATION:
METHOD:PUBLISH
X-WR-CALNAME:pacs@pacsdelpenedes.cat
X-WR-TIMEZONE:Europe/Madrid
DESCRIPTION:
URI:https://www.pacsdelpenedes.cat/actualitat/agenda/1744-gimcana-arriben-els-tions-a-pacs.html
CLASS:PUBLIC
END:VEVENT
END:VCALENDAR
