BEGIN:VCALENDAR
VERSION:2.0
CALSCALE:GREGORIAN
PRODID:-//Diputació de Barcelona//DibaCMS//EN
BEGIN:VEVENT
UID:1765
DTSTAMP:20260425T003218
DTSTART:20230111T000000
DTEND:20230220T000000
SUMMARY:Bonificació Taxa Escombreries
LOCATION:
METHOD:PUBLISH
X-WR-CALNAME:pacs@pacsdelpenedes.cat
X-WR-TIMEZONE:Europe/Madrid
DESCRIPTION:
URI:https://www.pacsdelpenedes.cat/actualitat/agenda/1765-bonificacio-taxa-escombreries.html
CLASS:PUBLIC
END:VEVENT
END:VCALENDAR
