BEGIN:VCALENDAR
VERSION:2.0
CALSCALE:GREGORIAN
PRODID:-//Diputació de Barcelona//DibaCMS//EN
BEGIN:VEVENT
UID:1845
DTSTAMP:20260425T050651
DTSTART:20230426T183000
DTEND:20230426T183000
SUMMARY:Conferència les dones de les biblioteques
LOCATION:
METHOD:PUBLISH
X-WR-CALNAME:pacs@pacsdelpenedes.cat
X-WR-TIMEZONE:Europe/Madrid
DESCRIPTION:
URI:https://www.pacsdelpenedes.cat/actualitat/agenda/1845-conferencia-les-dones-de-les-biblioteques.html
CLASS:PUBLIC
END:VEVENT
END:VCALENDAR
