BEGIN:VCALENDAR
VERSION:2.0
CALSCALE:GREGORIAN
PRODID:-//Diputació de Barcelona//DibaCMS//EN
BEGIN:VEVENT
UID:1863
DTSTAMP:20260425T031617
DTSTART:20230529T000000
DTEND:20230604T000000
SUMMARY:Inscripcions no residents casal d'estiu i estiu jove 2023
LOCATION:
METHOD:PUBLISH
X-WR-CALNAME:pacs@pacsdelpenedes.cat
X-WR-TIMEZONE:Europe/Madrid
DESCRIPTION:
URI:https://www.pacsdelpenedes.cat/actualitat/agenda/inscripcions-no-residents-casal-destiu-i-estiu-jove-2023.html
CLASS:PUBLIC
END:VEVENT
END:VCALENDAR
