BEGIN:VCALENDAR
VERSION:2.0
CALSCALE:GREGORIAN
PRODID:-//Diputació de Barcelona//DibaCMS//EN
BEGIN:VEVENT
UID:1961
DTSTAMP:20260425T124908
DTSTART:20230910T230000
DTEND:20230911T010000
SUMMARY:Led Party
LOCATION:
METHOD:PUBLISH
X-WR-CALNAME:pacs@pacsdelpenedes.cat
X-WR-TIMEZONE:Europe/Madrid
DESCRIPTION:
URI:https://www.pacsdelpenedes.cat/actualitat/agenda/1961-led-party.html
CLASS:PUBLIC
END:VEVENT
END:VCALENDAR
