BEGIN:VCALENDAR
VERSION:2.0
CALSCALE:GREGORIAN
PRODID:-//Diputació de Barcelona//DibaCMS//EN
BEGIN:VEVENT
UID:7482
DTSTAMP:20260425T124738
DTSTART:20231120T000000
DTEND:20231120T000000
SUMMARY:II Cicle de caminades Caminem!
LOCATION:
METHOD:PUBLISH
X-WR-CALNAME:pacs@pacsdelpenedes.cat
X-WR-TIMEZONE:Europe/Madrid
DESCRIPTION:
URI:https://www.pacsdelpenedes.cat/actualitat/agenda/7482-ii-cicle-de-caminades-caminem.html
CLASS:PUBLIC
END:VEVENT
END:VCALENDAR
