BEGIN:VCALENDAR
VERSION:2.0
CALSCALE:GREGORIAN
PRODID:-//Diputació de Barcelona//DibaCMS//EN
BEGIN:VEVENT
UID:7548
DTSTAMP:20260425T155904
DTSTART:20231201T110000
DTEND:20231201T110000
SUMMARY:Visita guiada a les intal·lacions de Cales de Pachs
LOCATION:
METHOD:PUBLISH
X-WR-CALNAME:pacs@pacsdelpenedes.cat
X-WR-TIMEZONE:Europe/Madrid
DESCRIPTION:
URI:https://www.pacsdelpenedes.cat/actualitat/agenda/7548-visita-guiada-a-les-intallacions-de-cales-de-pachs.html
CLASS:PUBLIC
END:VEVENT
END:VCALENDAR
