BEGIN:VCALENDAR
VERSION:2.0
CALSCALE:GREGORIAN
PRODID:-//Diputació de Barcelona//DibaCMS//EN
BEGIN:VEVENT
UID:7561
DTSTAMP:20260425T163505
DTSTART:20231216T170000
DTEND:20231216T170000
SUMMARY:Nadal al Barri de l'Agrícola 2023
LOCATION:
METHOD:PUBLISH
X-WR-CALNAME:pacs@pacsdelpenedes.cat
X-WR-TIMEZONE:Europe/Madrid
DESCRIPTION:
URI:https://www.pacsdelpenedes.cat/actualitat/agenda/7561-nadal-al-barri-de-lagricola-2023.html
CLASS:PUBLIC
END:VEVENT
END:VCALENDAR
