BEGIN:VCALENDAR
VERSION:2.0
CALSCALE:GREGORIAN
PRODID:-//Diputació de Barcelona//DibaCMS//EN
BEGIN:VEVENT
UID:7608
DTSTAMP:20260425T155713
DTSTART:20240105T170000
DTEND:20240105T170000
SUMMARY:Arribada a Pacs de SSMM els reis mags d'orient
LOCATION:
METHOD:PUBLISH
X-WR-CALNAME:pacs@pacsdelpenedes.cat
X-WR-TIMEZONE:Europe/Madrid
DESCRIPTION:
URI:https://www.pacsdelpenedes.cat/actualitat/agenda/7608-arribada-a-pacs-de-ssmm-els-reis-mags-dorient.html
CLASS:PUBLIC
END:VEVENT
END:VCALENDAR
