BEGIN:VCALENDAR
VERSION:2.0
CALSCALE:GREGORIAN
PRODID:-//Diputació de Barcelona//DibaCMS//EN
BEGIN:VEVENT
UID:7631
DTSTAMP:20260425T155648
DTSTART:20231230T173000
DTEND:20231230T173000
SUMMARY:Recollida de cartes per SSMM els reis mags d'orient a càrrec del patge reial
LOCATION:
METHOD:PUBLISH
X-WR-CALNAME:pacs@pacsdelpenedes.cat
X-WR-TIMEZONE:Europe/Madrid
DESCRIPTION:
URI:https://www.pacsdelpenedes.cat/actualitat/agenda/7631-recollida-de-cartes-per-ssmm-els-reis-mags-dorient-a-carrec-del-patge-reial.html
CLASS:PUBLIC
END:VEVENT
END:VCALENDAR
