BEGIN:VCALENDAR
VERSION:2.0
CALSCALE:GREGORIAN
PRODID:-//Diputació de Barcelona//DibaCMS//EN
BEGIN:VEVENT
UID:7649
DTSTAMP:20260425T190023
DTSTART:20240223T160000
DTEND:20240223T160000
SUMMARY:Visita guiada al Parlament de Catalunya
LOCATION:
METHOD:PUBLISH
X-WR-CALNAME:pacs@pacsdelpenedes.cat
X-WR-TIMEZONE:Europe/Madrid
DESCRIPTION:
URI:https://www.pacsdelpenedes.cat/actualitat/agenda/7649-visita-guiada-al-parlament-de-catalunya.html
CLASS:PUBLIC
END:VEVENT
END:VCALENDAR
