BEGIN:VCALENDAR
VERSION:2.0
CALSCALE:GREGORIAN
PRODID:-//Diputació de Barcelona//DibaCMS//EN
BEGIN:VEVENT
UID:7653
DTSTAMP:20260425T160415
DTSTART:20240202T203000
DTEND:20240202T203000
SUMMARY:4ª Rua de carnaval a Pacs
LOCATION:
METHOD:PUBLISH
X-WR-CALNAME:pacs@pacsdelpenedes.cat
X-WR-TIMEZONE:Europe/Madrid
DESCRIPTION:
URI:https://www.pacsdelpenedes.cat/actualitat/agenda/7653-4a-rua-de-carnaval-a-pacs.html
CLASS:PUBLIC
END:VEVENT
END:VCALENDAR
