BEGIN:VCALENDAR
VERSION:2.0
CALSCALE:GREGORIAN
PRODID:-//Diputació de Barcelona//DibaCMS//EN
BEGIN:VEVENT
UID:7670
DTSTAMP:20260425T190646
DTSTART:20240223T084500
DTEND:20240223T084500
SUMMARY:Passejada BCN Medieval amb la Sílvia Gisbert
LOCATION:
METHOD:PUBLISH
X-WR-CALNAME:pacs@pacsdelpenedes.cat
X-WR-TIMEZONE:Europe/Madrid
DESCRIPTION:
URI:https://www.pacsdelpenedes.cat/actualitat/agenda/7670-passejada-bcn-medieval-amb-la-silvia-gisbert.html
CLASS:PUBLIC
END:VEVENT
END:VCALENDAR
