BEGIN:VCALENDAR
VERSION:2.0
CALSCALE:GREGORIAN
PRODID:-//Diputació de Barcelona//DibaCMS//EN
BEGIN:VEVENT
UID:7699
DTSTAMP:20260419T142809
DTSTART:20240124T000000
DTEND:20240124T000000
SUMMARY:Revisió el muntatge de les noves estructures de joc al parc del barri de l’Agrícola
LOCATION:
METHOD:PUBLISH
X-WR-CALNAME:pacs@pacsdelpenedes.cat
X-WR-TIMEZONE:Europe/Madrid
DESCRIPTION:
URI:https://www.pacsdelpenedes.cat/ajuntament/govern/agenda-politica/revisio-el-muntatge-de-les-noves-estructures-de-joc-al-parc-del-barri-de-lagricola.html
CLASS:PUBLIC
END:VEVENT
END:VCALENDAR
