BEGIN:VCALENDAR
VERSION:2.0
CALSCALE:GREGORIAN
PRODID:-//Diputació de Barcelona//DibaCMS//EN
BEGIN:VEVENT
UID:7737
DTSTAMP:20260425T162819
DTSTART:20240309T210000
DTEND:20240309T210000
SUMMARY:Sopar de la dona i la igualtat
LOCATION:
METHOD:PUBLISH
X-WR-CALNAME:pacs@pacsdelpenedes.cat
X-WR-TIMEZONE:Europe/Madrid
DESCRIPTION:
URI:https://www.pacsdelpenedes.cat/actualitat/agenda/7737-sopar-de-la-dona-i-la-igualtat.html
CLASS:PUBLIC
END:VEVENT
END:VCALENDAR
