BEGIN:VCALENDAR
VERSION:2.0
CALSCALE:GREGORIAN
PRODID:-//Diputació de Barcelona//DibaCMS//EN
BEGIN:VEVENT
UID:7739
DTSTAMP:20260425T160846
DTSTART:20240309T180000
DTEND:20240309T180000
SUMMARY:La Roda de Teatre arriba a Pacs
LOCATION:
METHOD:PUBLISH
X-WR-CALNAME:pacs@pacsdelpenedes.cat
X-WR-TIMEZONE:Europe/Madrid
DESCRIPTION:
URI:https://www.pacsdelpenedes.cat/actualitat/agenda/7739-la-roda-de-teatre-arriba-a-pacs.html
CLASS:PUBLIC
END:VEVENT
END:VCALENDAR
