BEGIN:VCALENDAR
VERSION:2.0
CALSCALE:GREGORIAN
PRODID:-//Diputació de Barcelona//DibaCMS//EN
BEGIN:VEVENT
UID:7810
DTSTAMP:20260425T215712
DTSTART:20240429T000000
DTEND:20240429T000000
SUMMARY:Renovació del DNI
LOCATION:
METHOD:PUBLISH
X-WR-CALNAME:pacs@pacsdelpenedes.cat
X-WR-TIMEZONE:Europe/Madrid
DESCRIPTION:
URI:https://www.pacsdelpenedes.cat/actualitat/agenda/7810-renovacio-del-dni.html
CLASS:PUBLIC
END:VEVENT
END:VCALENDAR
