BEGIN:VCALENDAR
VERSION:2.0
CALSCALE:GREGORIAN
PRODID:-//Diputació de Barcelona//DibaCMS//EN
BEGIN:VEVENT
UID:7811
DTSTAMP:20260425T195910
DTSTART:20240502T000000
DTEND:20240502T000000
SUMMARY:Recollida dels DNI
LOCATION:
METHOD:PUBLISH
X-WR-CALNAME:pacs@pacsdelpenedes.cat
X-WR-TIMEZONE:Europe/Madrid
DESCRIPTION:
URI:https://www.pacsdelpenedes.cat/actualitat/agenda/7811-recollida-dels-dni.html
CLASS:PUBLIC
END:VEVENT
END:VCALENDAR
