BEGIN:VCALENDAR
VERSION:2.0
CALSCALE:GREGORIAN
PRODID:-//Diputació de Barcelona//DibaCMS//EN
BEGIN:VEVENT
UID:7839
DTSTAMP:20260425T203157
DTSTART:20240426T193000
DTEND:20240426T193000
SUMMARY:Taller Contes per l'ànima
LOCATION:
METHOD:PUBLISH
X-WR-CALNAME:pacs@pacsdelpenedes.cat
X-WR-TIMEZONE:Europe/Madrid
DESCRIPTION:
URI:https://www.pacsdelpenedes.cat/actualitat/agenda/7839-taller-contes-per-lanima.html
CLASS:PUBLIC
END:VEVENT
END:VCALENDAR
