BEGIN:VCALENDAR
VERSION:2.0
CALSCALE:GREGORIAN
PRODID:-//Diputació de Barcelona//DibaCMS//EN
BEGIN:VEVENT
UID:7841
DTSTAMP:20260425T215814
DTSTART:20240428T183000
DTEND:20240428T183000
SUMMARY:Cícle Gaudí "Saben aquell"
LOCATION:
METHOD:PUBLISH
X-WR-CALNAME:pacs@pacsdelpenedes.cat
X-WR-TIMEZONE:Europe/Madrid
DESCRIPTION:
URI:https://www.pacsdelpenedes.cat/actualitat/agenda/7841-cicle-gaudi-saben-aquell.html
CLASS:PUBLIC
END:VEVENT
END:VCALENDAR
