BEGIN:VCALENDAR
VERSION:2.0
CALSCALE:GREGORIAN
PRODID:-//Diputació de Barcelona//DibaCMS//EN
BEGIN:VEVENT
UID:7905
DTSTAMP:20260425T220148
DTSTART:20240525T100000
DTEND:20240525T120000
SUMMARY:Romeria Pacs del Penedès
LOCATION:
METHOD:PUBLISH
X-WR-CALNAME:pacs@pacsdelpenedes.cat
X-WR-TIMEZONE:Europe/Madrid
DESCRIPTION:
URI:https://www.pacsdelpenedes.cat/actualitat/agenda/7905-romeria-pacs-del-penedes.html
CLASS:PUBLIC
END:VEVENT
END:VCALENDAR
