BEGIN:VCALENDAR
VERSION:2.0
CALSCALE:GREGORIAN
PRODID:-//Diputació de Barcelona//DibaCMS//EN
BEGIN:VEVENT
UID:7908
DTSTAMP:20260425T214113
DTSTART:20240602T170000
DTEND:20240602T210000
SUMMARY:Obra de teatre C DE QUÈ?
LOCATION:
METHOD:PUBLISH
X-WR-CALNAME:pacs@pacsdelpenedes.cat
X-WR-TIMEZONE:Europe/Madrid
DESCRIPTION:
URI:https://www.pacsdelpenedes.cat/actualitat/agenda/7908-obra-de-teatre-c-de-que.html
CLASS:PUBLIC
END:VEVENT
END:VCALENDAR
