BEGIN:VCALENDAR
VERSION:2.0
CALSCALE:GREGORIAN
PRODID:-//Diputació de Barcelona//DibaCMS//EN
BEGIN:VEVENT
UID:7936
DTSTAMP:20260426T023130
DTSTART:20240615T193000
DTEND:20240615T193000
SUMMARY:Xerrada de l'Àfrica, una mirada apassionant
LOCATION:
METHOD:PUBLISH
X-WR-CALNAME:pacs@pacsdelpenedes.cat
X-WR-TIMEZONE:Europe/Madrid
DESCRIPTION:
URI:https://www.pacsdelpenedes.cat/actualitat/agenda/7936-xerrada-de-lafrica-una-mirada-apassionant.html
CLASS:PUBLIC
END:VEVENT
END:VCALENDAR
