BEGIN:VCALENDAR
VERSION:2.0
CALSCALE:GREGORIAN
PRODID:-//Diputació de Barcelona//DibaCMS//EN
BEGIN:VEVENT
UID:8191
DTSTAMP:20260425T233219
DTSTART:20241019T180000
DTEND:20241019T180000
SUMMARY:Castanyalloween'24
LOCATION:
METHOD:PUBLISH
X-WR-CALNAME:pacs@pacsdelpenedes.cat
X-WR-TIMEZONE:Europe/Madrid
DESCRIPTION:
URI:https://www.pacsdelpenedes.cat/actualitat/agenda/8191-castanyalloween24.html
CLASS:PUBLIC
END:VEVENT
END:VCALENDAR
