BEGIN:VCALENDAR
VERSION:2.0
CALSCALE:GREGORIAN
PRODID:-//Diputació de Barcelona//DibaCMS//EN
BEGIN:VEVENT
UID:8209
DTSTAMP:20260420T105234
DTSTART:20241017T000000
DTEND:20241017T000000
SUMMARY:Reunió  informativa amb el Diputat delegat, la Diputada adjunta i Coodinadora de l'Àrea d’Educació de la Diputació de Barcelona 
LOCATION:
METHOD:PUBLISH
X-WR-CALNAME:pacs@pacsdelpenedes.cat
X-WR-TIMEZONE:Europe/Madrid
DESCRIPTION:
URI:https://www.pacsdelpenedes.cat/ajuntament/govern/agenda-politica/reunio-informativa-amb-el-diputat-delegat-la-diputada-adjunta-i-coodinadora-de-larea-deducacio-de-la-diputacio-de-barcelona-.html
CLASS:PUBLIC
END:VEVENT
END:VCALENDAR
