BEGIN:VCALENDAR
VERSION:2.0
CALSCALE:GREGORIAN
PRODID:-//Diputació de Barcelona//DibaCMS//EN
BEGIN:VEVENT
UID:8280
DTSTAMP:20260426T024051
DTSTART:20241124T183000
DTEND:20241124T200000
SUMMARY:Cícle Gaudí "Casa en Flames"
LOCATION:
METHOD:PUBLISH
X-WR-CALNAME:pacs@pacsdelpenedes.cat
X-WR-TIMEZONE:Europe/Madrid
DESCRIPTION:
URI:https://www.pacsdelpenedes.cat/actualitat/agenda/8280-cicle-gaudi-casa-en-flames.html
CLASS:PUBLIC
END:VEVENT
END:VCALENDAR
