BEGIN:VCALENDAR
VERSION:2.0
CALSCALE:GREGORIAN
PRODID:-//Diputació de Barcelona//DibaCMS//EN
BEGIN:VEVENT
UID:8357
DTSTAMP:20260426T010402
DTSTART:20241224T183000
DTEND:20241224T183000
SUMMARY:Missa del Pollet
LOCATION:
METHOD:PUBLISH
X-WR-CALNAME:pacs@pacsdelpenedes.cat
X-WR-TIMEZONE:Europe/Madrid
DESCRIPTION:
URI:https://www.pacsdelpenedes.cat/actualitat/agenda/8357-missa-del-pollet.html
CLASS:PUBLIC
END:VEVENT
END:VCALENDAR
