BEGIN:VCALENDAR
VERSION:2.0
CALSCALE:GREGORIAN
PRODID:-//Diputació de Barcelona//DibaCMS//EN
BEGIN:VEVENT
UID:8949
DTSTAMP:20260425T015905
DTSTART:20250914T183000
DTEND:20250914T201000
SUMMARY:Cicle Gaudí "Los Destellos"
LOCATION:
METHOD:PUBLISH
X-WR-CALNAME:pacs@pacsdelpenedes.cat
X-WR-TIMEZONE:Europe/Madrid
DESCRIPTION:
URI:https://www.pacsdelpenedes.cat/actualitat/agenda/8949-cicle-gaudi-los-destellos.html
CLASS:PUBLIC
END:VEVENT
END:VCALENDAR
