BEGIN:VCALENDAR
VERSION:2.0
CALSCALE:GREGORIAN
PRODID:-//Diputació de Barcelona//DibaCMS//EN
BEGIN:VEVENT
UID:9573
DTSTAMP:20260424T211004
DTSTART:20260510T100000
DTEND:20260510T130000
SUMMARY:1a festa de l’esport "Pacs es mou"
LOCATION:
METHOD:PUBLISH
X-WR-CALNAME:pacs@pacsdelpenedes.cat
X-WR-TIMEZONE:Europe/Madrid
DESCRIPTION:
URI:https://www.pacsdelpenedes.cat/actualitat/agenda/1a-festa-de-lesport-pacs-es-mou.html
CLASS:PUBLIC
END:VEVENT
END:VCALENDAR
